Workbook

Sheet DADOS
B2: UFCD(S) | E2: CURSO
B3: 9834 - Gestão operacional de marketing | C3: =UPPER(B3) -> 9834 - GESTÃO OPERACIONAL DE MARKETING | E3: Ação 1
C4: =UPPER(B4) | E4: =UPPER(E3) -> AÇÃO 1
C5: =UPPER(B5) | E5: TEMAS/SESSÕES
C6: =UPPER(B6) | E6: Tema 0 - Introdução e diagnóstico | F6: =UPPER(E6) -> TEMA 0 - INTRODUÇÃO E DIAGNÓSTICO
C7: =UPPER(B7) | E7: Tema 1 - Ferramentas de marketing operacional | F7: =UPPER(E7) -> TEMA 1 - FERRAMENTAS DE MARKETING OPERACIONAL
C8: =UPPER(B8) | E8: Tema 2 - Merchandising | F8: =UPPER(E8) -> TEMA 2 - MERCHANDISING
C9: =UPPER(B9) | E9: Tema 3 - Marketing direto | F9: =UPPER(E9) -> TEMA 3 - MARKETING DIRETO
C10: =UPPER(B10) | E10: Tema 4 - Gestão e avaliação da força de vendas | F10: =UPPER(E10) -> TEMA 4 - GESTÃO E AVALIAÇÃO DA FORÇA DE VENDAS
C11: =UPPER(B11) | E11: Tema 5 - Política de comunicação no marketing operacional | F11: =UPPER(E11) -> TEMA 5 - POLÍTICA DE COMUNICAÇÃO NO MARKETING OPERACIONAL
C12: =UPPER(B12) | E12: Tema 6 - Marketing social versus comercial | F12: =UPPER(E12) -> TEMA 6 - MARKETING SOCIAL VERSUS COMERCIAL
C13: =UPPER(B13) | E13: Tema 7 - Avaliação e encerramento | F13: =UPPER(E13) -> TEMA 7 - AVALIAÇÃO E ENCERRAMENTO
C14: =UPPER(B14) | F14: =UPPER(E14)
C15: =UPPER(B15) | F15: =UPPER(E15)
C16: =UPPER(B16) | F16: =UPPER(E16)
C17: =UPPER(B17) | F17: =UPPER(E17)
C18: =UPPER(B18) | F18: =UPPER(E18)
C19: =UPPER(B19) | F19: =UPPER(E19)
C20: =UPPER(B20) | F20: =UPPER(E20)
C21: =UPPER(B21) | F21: =UPPER(E21)
C22: =UPPER(B22) | F22: =UPPER(E22)
C23: =UPPER(B23) | F23: =UPPER(E23)
C24: =UPPER(B24) | F24: =UPPER(E24)
C25: =UPPER(B25) | F25: =UPPER(E25)
... C44: =UPPER(B44) | F44: =UPPER(E44)
B45: =TODAY() -> 44046 | C45: =UPPER(B45) -> 44046 | F45: =UPPER(E45)
B46: José Oliveira | C46: =UPPER(B46) -> JOSÉ OLIVEIRA | F46: =UPPER(E46)
F47: =UPPER(E47)
F48: =UPPER(E48)
F49: =UPPER(E49)
F50: =UPPER(E50)
F51: =UPPER(E51)
F52: =UPPER(E52)
F53: =UPPER(E53)
F54: =UPPER(E54)
F55: =UPPER(E55)

Sheet APOIO
C1: SESSÕES SÍNCRONAS | F1: SESSÕES ASSÍNCRONAS
B2: OBJETIVOS ESPECIFICOS DA UFCD | C2: eATIVIDADES | D2: eRECURSOS | E2: eAVALIAÇÃO ATIV SÍNCRONAS | F2: eATIVIDADES | G2: eRECURSOS | H2: eAVALIAÇÃO ATIV ASSÍNCRONAS
B3: Identificar as ferramentas do marketing operacional. | C3: Diálogo com os formandos no sentido de auscultar os seus conhecimentos acerca do tema marketing operacional | D3: Chat, Videoconferência | E3: Observação direta do interesse e empenho dos formandos
B4: Explicar a importância do merchandising como instrumento de apoio à venda e na política de comunicação. | C4: Visualização e análise de vídeos expositivos | D4: Videoconferência através do Teams; | E4: Participação oral | G4: Videoconferência através do Teams;
B5: Reconhecer, no contexto atual, potencialidades do marketing direto e caracteriza-lo como variável do mix de comunicação | D5: Recursos abertos | E5: Interação oral
B6: Distinguir o marketing social do comercial. | C6: Atividade de conferência (com video, audio e chat) | D6: Mamual digital da UFCD | E6: Assiduidade
B7: Conhecer o funcionamento básico da plataforma a distância | C7: Atividade de partilha de ecrã | D7: Uso de plataformas digitais | E7: Pontualidade | F7: Entrega das tarefas conforme descrito nas mesmas | H7: Cumprimento do prazo de entrega do trabalho.
B8: Conhecer os ojetivos e conteúdos da UFCD | C8: Atividade de partilha de ficheiros | E8: Realização das atividades propostas | G8: Uso de documentação de suporte
B9: Demonstrar os conhecimentos prévios sobre o tema marketing operacional | C9: Marcação de atividade cronometrada | H9: Autonomia demonstrada na realização das tarefas propostas;
B10: Conhecer o conceito de marketing operacional | G10: Recurso a fórum de discussão | H10: Participação no fórum;
B11: Reconhecer a importância da força de vendas | D11: Recurso a fórum de discussão
B12: Avaliar a força de vendas | G12: recursos abertos
B13: Conhecer aspetos básicos da comunicação de marketing | D13: Uso de recursos abertos
B14: Conceber uma comunicação básica de marca | F14: Fóruns de discussão: atividade de brainstorming, discussão orientada, discussão livre, debates, apresentação de trabalhos. | G14: Visualização de vídeo
B15: Aplicar os conhecimentos obtidos ao longo do curso de forma autónoma | D15: Visualização de vídeo

Sheet TEMA 0 - PLANIFICAÇÃO
O1: Assinatura: (legível)
G3: PLANIFICAÇÃO DAS SESSÕES
B5: CURSO: | C5: =UPPER(DADOS!$E$4) -> AÇÃO 1 | M5: FORMADOR: | N5: =DADOS!B46 -> José Oliveira
B6: UFCD: | C6: =DADOS!B3 -> 9834 - Gestão operacional de marketing | M6: DATA: | N6: =DADOS!B45 -> 44046
B8: OBJETIVOS GLOBAIS DO TEMA/SESSÃO | D8: No final do tema os formandos deverão manusear a plataforma de formação a distâmcia e conhecer o conceito de marketing operacional
B10: OBJETIVOS ESPECIFICOS DA SESSÃO/TEMA: | E10: eCOMPETÊNCIAS A DESENVOLVER | I10: eATIVIDADES SÍNCRONAS | M10: eRECURSOS | N10: FORMA DE eAVALIAÇÃO | Q10: DURAÇÃO (HORAS)
B11: Conhecer o funcionamento básico da plataforma a distância | E11: Manuseamneto da plataforma e Conhecimento de conceitos básicos de marketing operacional | I11: Atividade de conferência (com video, audio e chat) | M11: Recurso a fórum de discussão | N11: Realização das atividades propostas | Q11: 1
I12: Atividade de partilha de ecrã | N12: Participação oral
B13: Conhecer os ojetivos e conteúdos da UFCD | M13: Uso de recursos abertos | N13: Assiduidade
N14: Pontualidade
B15: Demonstrar os conhecimentos prévios sobre o tema marketing operacional | M15: Videoconferência através do Teams;
B17: Conhecer o conceito de marketing operacional
E21: eCONTEUDOS TEÓRICO-PRÁTICOS | I21: eATIVIDADES ASSÍNCRONAS | N21: FORMA DE eAVALIAÇÃO | Q21: DURAÇÃO (HORAS)
E22: Marketing operacional conceitos; Diferenças entre marketing operacional e estratégico; Ferramnetas de marketing operacional | I22: Entrega das tarefas conforme descrito nas mesmas | N22: Cumprimento do prazo de entrega do trabalho. | Q22: 1
I23: Fóruns de discussão: atividade de brainstorming, discussão orientada, discussão livre, debates, apresentação de trabalhos. | N23: Autonomia demonstrada na realização das tarefas propostas;
N24: Participação no fórum;
N35: TOTAL DE HORAS | Q35: 2

Sheet TEMA 1 - PLANIFICAÇÃO
O1: Assinatura: (legível)
G3: PLANIFICAÇÃO DAS SESSÕES
B5: CURSO: | C5: =UPPER(DADOS!$E$4) -> AÇÃO 1 | M5: FORMADOR: | N5: =DADOS!B46 -> José Oliveira
B6: UFCD: | C6: =DADOS!B3 -> 9834 - Gestão operacional de marketing | M6: DATA: | N6: =DADOS!B45 -> 44046
B8: OBJETIVOS GLOBAIS DO TEMA/SESSÃO | D8: No final do tema os formandos deverão conhecer as ferramentas de marketing operacional
B10: OBJETIVOS ESPECIFICOS DA SESSÃO/TEMA: | E10: eCOMPETÊNCIAS A DESENVOLVER | I10: eATIVIDADES SÍNCRONAS | M10: eRECURSOS | N10: FORMA DE eAVALIAÇÃO | Q10: DURAÇÃO (HORAS)
B11: Identificar as ferramentas do marketing operacional. | E11: Distinção entre as diversas ferramentas de marketing operacional; conhecimento básico sobre algumas ferramentas de marketing operacional | I11: Atividade de conferência (com video, audio e chat) | M11: Recurso a fórum de discussão | N11: Realização das atividades propostas | Q11: 1
I12: Atividade de partilha de ecrã | N12: Participação oral
M13: Uso de recursos abertos | N13: Assiduidade
N14: Pontualidade
M15: Videoconferência através do Teams;
E21: eCONTEUDOS TEÓRICO-PRÁTICOS | I21: eATIVIDADES ASSÍNCRONAS | N21: FORMA DE eAVALIAÇÃO | Q21: DURAÇÃO (HORAS)
E22: Ferramentas de marketing operacional | I22: Entrega das tarefas conforme descrito nas mesmas | N22: Cumprimento do prazo de entrega do trabalho. | Q22: 2
I23: Fóruns de discussão: atividade de brainstorming, discussão orientada, discussão livre, debates, apresentação de trabalhos. | N23: Autonomia demonstrada na realização das tarefas propostas;
N24: Participação no fórum;
N35: TOTAL DE HORAS | Q35: 3

Sheet TEMA 2 - PLANIFICAÇÃO
O1: Assinatura: (legível)
G3: PLANIFICAÇÃO DAS SESSÕES
B5: CURSO: | C5: =UPPER(DADOS!$E$4) -> AÇÃO 1 | M5: FORMADOR: | N5: =DADOS!B46 -> José Oliveira
B6: UFCD: | C6: =DADOS!B3 -> 9834 - Gestão operacional de marketing | M6: DATA: | N6: =DADOS!B45 -> 44046
B8: OBJETIVOS GLOBAIS DO TEMA/SESSÃO | D8: No final do tema os formandos deverão conhecer e aplicar técnicas de merchandising
B10: OBJETIVOS ESPECIFICOS DA SESSÃO/TEMA: | E10: eCOMPETÊNCIAS A DESENVOLVER | I10: eATIVIDADES SÍNCRONAS | M10: eRECURSOS | N10: FORMA DE eAVALIAÇÃO | Q10: DURAÇÃO (HORAS)
B11: Explicar a importância do merchandising como instrumento de apoio à venda e na política de comunicação. | E11: Conhecimento básico de merchandising e aplicação de técnicas de merchandising | I11: Atividade de conferência (com video, audio e chat) | M11: Recurso a fórum de discussão | N11: Realização das atividades propostas | Q11: 1
I12: Atividade de partilha de ecrã | N12: Participação oral
M13: Uso de recursos abertos | N13: Assiduidade
N14: Pontualidade
M15: Mamual digital da UFCD
M17: Videoconferência através do Teams;
E21: eCONTEUDOS TEÓRICO-PRÁTICOS | I21: eATIVIDADES ASSÍNCRONAS | N21: FORMA DE eAVALIAÇÃO | Q21: DURAÇÃO (HORAS)
E22: Merchandising como conjunto de técnicas para aumentar as vendas no ponto de venda | I22: Entrega das tarefas conforme descrito nas mesmas | N22: Cumprimento do prazo de entrega do trabalho. | Q22: 2
I23: Fóruns de discussão: atividade de brainstorming, discussão orientada, discussão livre, debates, apresentação de trabalhos. | N23: Autonomia demonstrada na realização das tarefas propostas;
N24: Participação no fórum;
N35: TOTAL DE HORAS | Q35: 3

Sheet TEMA 3 - PLANIFICAÇÃO
O1: Assinatura: (legível)
G3: PLANIFICAÇÃO DAS SESSÕES
B5: CURSO: | C5: =UPPER(DADOS!$E$4) -> AÇÃO 1 | M5: FORMADOR: | N5: =DADOS!B46 -> José Oliveira
B6: UFCD: | C6: =DADOS!B3 -> 9834 - Gestão operacional de marketing | M6: DATA: | N6: =DADOS!B45 -> 44046
B8: OBJETIVOS GLOBAIS DO TEMA/SESSÃO | D8: No final do tema os formandos deverão reconhecer a imortância do marketing direto como meio de comunicação com os consumidores
B10: OBJETIVOS ESPECIFICOS DA SESSÃO/TEMA: | E10: eCOMPETÊNCIAS A DESENVOLVER | I10: eATIVIDADES SÍNCRONAS | M10: eRECURSOS | N10: FORMA DE eAVALIAÇÃO | Q10: DURAÇÃO (HORAS)
B11: Reconhecer, no contexto atual, potencialidades do marketing direto e caracteriza-lo como variável do mix de comunicação | E11: Conhecimento sobre marketing direto e aplicação do telemarketing no relacionamento com o cliente | I11: Atividade de conferência (com video, audio e chat) | M11: Recurso a fórum de discussão | N11: Realização das atividades propostas | Q11: 1
I12: Atividade de partilha de ecrã
M13: Uso de recursos abertos
M15: Visualização de vídeo
M17: Mamual digital da UFCD
M19: Videoconferência através do Teams;
E21: eCONTEUDOS TEÓRICO-PRÁTICOS | I21: eATIVIDADES ASSÍNCRONAS | N21: FORMA DE eAVALIAÇÃO | Q21: DURAÇÃO (HORAS)
E22: Marketing direto como ferramenta de gestão no relacionamento com os contacto da empresa | I22: Trabalho de Pesquisa | N22: Cumprimento do prazo de entrega do trabalho. | Q22: 2
I23: Entrega das tarefas conforme descrito nas mesmas | N23: Autonomia demonstrada na realização das tarefas propostas;
I24: Fóruns de discussão: atividade de brainstorming, discussão orientada, discussão livre, debates, apresentação de trabalhos. | N24: Participação no fórum;
N35: TOTAL DE HORAS | Q35: 3

Sheet TEMA 4 - PLANIFICAÇÃO
O1: Assinatura: (legível)
G3: PLANIFICAÇÃO DAS SESSÕES
B5: CURSO: | C5: =UPPER(DADOS!$E$4) -> AÇÃO 1 | M5: FORMADOR: | N5: =DADOS!B46 -> José Oliveira
B6: UFCD: | C6: =DADOS!B3 -> 9834 - Gestão operacional de marketing | M6: DATA: | N6: =DADOS!B45 -> 44046
B8: OBJETIVOS GLOBAIS DO TEMA/SESSÃO | D8: No final do tema os formandos deverão saber como se avalia uma força de vendas
B10: OBJETIVOS ESPECIFICOS DA SESSÃO/TEMA: | E10: eCOMPETÊNCIAS A DESENVOLVER | I10: eATIVIDADES SÍNCRONAS | M10: eRECURSOS | N10: FORMA DE eAVALIAÇÃO | Q10: DURAÇÃO (HORAS)
B11: Reconhecer a importância da força de vendas | E11: Reconhecimento da importância da força de vendas e avaliação da força de vendas | I11: Atividade de conferência (com video, audio e chat) | M11: Recurso a fórum de discussão | N11: Realização das atividades propostas | Q11: 1
I12: Atividade de partilha de ecrã
B13: Avaliar a força de vendas | M13: Uso de recursos abertos
M15: Mamual digital da UFCD
M17: Videoconferência através do Teams;
E21: eCONTEUDOS TEÓRICO-PRÁTICOS | I21: eATIVIDADES ASSÍNCRONAS | N21: FORMA DE eAVALIAÇÃO | Q21: DURAÇÃO (HORAS)
E22: Gestão e avaliação da força de vendas | I22: Trabalho de Pesquisa | N22: Cumprimento do prazo de entrega do trabalho. | Q22: 2
I23: Entrega das tarefas conforme descrito nas mesmas | N23: Autonomia demonstrada na realização das tarefas propostas;
I24: Fóruns de discussão: atividade de brainstorming, discussão orientada, discussão livre, debates, apresentação de trabalhos. | N24: Participação no fórum;
N35: TOTAL DE HORAS | Q35: 3

Sheet TEMA 5 - PLANIFICAÇÃO
O1: Assinatura: (legível)
G3: PLANIFICAÇÃO DAS SESSÕES
B5: CURSO: | C5: =UPPER(DADOS!$E$4) -> AÇÃO 1 | M5: FORMADOR: | N5: =DADOS!B46 -> José Oliveira
B6: UFCD: | C6: =DADOS!B3 -> 9834 - Gestão operacional de marketing | M6: DATA: | N6: =DADOS!B45 -> 44046
B8: OBJETIVOS GLOBAIS DO TEMA/SESSÃO | D8: No final do tema os formandos deverão elaborar uma comunicação básica de uma marca
B10: OBJETIVOS ESPECIFICOS DA SESSÃO/TEMA: | E10: eCOMPETÊNCIAS A DESENVOLVER | I10: eATIVIDADES SÍNCRONAS | M10: eRECURSOS | N10: FORMA DE eAVALIAÇÃO | Q10: DURAÇÃO (HORAS)
B11: Conhecer aspetos básicos da comunicação de marketing | E11: Conhecimento dos aspetos básico da comunicação de marketing e elaboração de uma comunicação básica de marca | I11: Atividade de conferência (com video, audio e chat) | M11: Recurso a fórum de discussão | N11: Realização das atividades propostas | Q11: 1
I12: Atividade de partilha de ecrã
B13: Conceber uma comunicação básica de marca | M13: Uso de recursos abertos
M15: Visualização de vídeo
M17: Videoconferência através do Teams;
E21: eCONTEUDOS TEÓRICO-PRÁTICOS | I21: eATIVIDADES ASSÍNCRONAS | N21: FORMA DE eAVALIAÇÃO | Q21: DURAÇÃO (HORAS)
E22: Importância da política de comunicação no marketing operacional | I22: Trabalho de Pesquisa | N22: Cumprimento do prazo de entrega do trabalho. | Q22: 3
I23: Entrega das tarefas conforme descrito nas mesmas | N23: Autonomia demonstrada na realização das tarefas propostas;
I24: Fóruns de discussão: atividade de brainstorming, discussão orientada, discussão livre, debates, apresentação de trabalhos. | N24: Participação no fórum;
N35: TOTAL DE HORAS | Q35: 4

Sheet TEMA 6 - PLANIFICAÇÃO
O1: Assinatura: (legível)
G3: PLANIFICAÇÃO DAS SESSÕES
B5: CURSO: | C5: =UPPER(DADOS!$E$4) -> AÇÃO 1 | M5: FORMADOR: | N5: =DADOS!B46 -> José Oliveira
B6: UFCD: | C6: =DADOS!B3 -> 9834 - Gestão operacional de marketing | M6: DATA: | N6: =DADOS!B45 -> 44046
B8: OBJETIVOS GLOBAIS DO TEMA/SESSÃO | D8: No final do tema os formandos deverão identificar caraterísticas e distinguir do marketing social e do comercial
B10: OBJETIVOS ESPECIFICOS DA SESSÃO/TEMA: | E10: eCOMPETÊNCIAS A DESENVOLVER | I10: eATIVIDADES SÍNCRONAS | M10: eRECURSOS | N10: FORMA DE eAVALIAÇÃO | Q10: DURAÇÃO (HORAS)
B11: Distinguir o marketing social do comercial. | E11: Distinção entre marketing social e comercial | I11: Atividade de conferência (com video, audio e chat) | M11: Recurso a fórum de discussão | N11: Realização das atividades propostas | Q11: 1
I12: Atividade de partilha de ecrã
M13: Uso de recursos abertos
M15: Visualização de vídeo
M17: Videoconferência através do Teams;
E21: eCONTEUDOS TEÓRICO-PRÁTICOS | I21: eATIVIDADES ASSÍNCRONAS | N21: FORMA DE eAVALIAÇÃO | Q21: DURAÇÃO (HORAS)
E22: Marketing social versus comercial | I22: Trabalho de Pesquisa | N22: Cumprimento do prazo de entrega do trabalho. | Q22: 3
I23: Entrega das tarefas conforme descrito nas mesmas | N23: Autonomia demonstrada na realização das tarefas propostas;
I24: Fóruns de discussão: atividade de brainstorming, discussão orientada, discussão livre, debates, apresentação de trabalhos. | N24: Participação no fórum;
N35: TOTAL DE HORAS | Q35: 4

Sheet TEMA 7 - PLANIFICAÇÃO
O1: Assinatura: (legível)
G3: PLANIFICAÇÃO DAS SESSÕES
B5: CURSO: | C5: =UPPER(DADOS!$E$4) -> AÇÃO 1 | M5: FORMADOR: | N5: =DADOS!B46 -> José Oliveira
B6: UFCD: | C6: =DADOS!B3 -> 9834 - Gestão operacional de marketing | M6: DATA: | N6: =DADOS!B45 -> 44046
B8: OBJETIVOS GLOBAIS DO TEMA/SESSÃO | D8: No final do tema os formandos deverão demonstrar os conhecimentos adquiridos durante o curso
B10: OBJETIVOS ESPECIFICOS DA SESSÃO/TEMA: | E10: eCOMPETÊNCIAS A DESENVOLVER | I10: eATIVIDADES SÍNCRONAS | M10: eRECURSOS | N10: FORMA DE eAVALIAÇÃO | Q10: DURAÇÃO (HORAS)
B11: Aplicar os conhecimentos obtidos ao longo do curso de forma autónoma | E11: Aplicação dos conhecimentos obtidos durante o curso | I11: Marcação de atividade cronometrada | M11: Recurso a fórum de discussão | N11: Realização das atividades propostas | Q11: 2
I12: Atividade de conferência (com video, audio e chat)
M13: Videoconferência através do Teams;
E21: eCONTEUDOS TEÓRICO-PRÁTICOS | I21: eATIVIDADES ASSÍNCRONAS | N21: FORMA DE eAVALIAÇÃO | Q21: DURAÇÃO (HORAS)
E22: Marketing operacional | N22: Cumprimento do prazo de entrega do trabalho.
N23: Autonomia demonstrada na realização das tarefas propostas;
N24: Participação no fórum;
N35: TOTAL DE HORAS | Q35: 2
